BEGIN:VCALENDAR
VERSION:2.0
PRODID:-//Salinas Valley Basin Groundwater Sustainability Agency - ECPv6.15.20//NONSGML v1.0//EN
CALSCALE:GREGORIAN
METHOD:PUBLISH
X-ORIGINAL-URL:https://svbgsa.org
X-WR-CALDESC:Events for Salinas Valley Basin Groundwater Sustainability Agency
REFRESH-INTERVAL;VALUE=DURATION:PT1H
X-Robots-Tag:noindex
X-PUBLISHED-TTL:PT1H
BEGIN:VTIMEZONE
TZID:America/Los_Angeles
BEGIN:DAYLIGHT
TZOFFSETFROM:-0800
TZOFFSETTO:-0700
TZNAME:PDT
DTSTART:20250309T100000
END:DAYLIGHT
BEGIN:STANDARD
TZOFFSETFROM:-0700
TZOFFSETTO:-0800
TZNAME:PST
DTSTART:20251102T090000
END:STANDARD
BEGIN:DAYLIGHT
TZOFFSETFROM:-0800
TZOFFSETTO:-0700
TZNAME:PDT
DTSTART:20260308T100000
END:DAYLIGHT
BEGIN:STANDARD
TZOFFSETFROM:-0700
TZOFFSETTO:-0800
TZNAME:PST
DTSTART:20261101T090000
END:STANDARD
BEGIN:DAYLIGHT
TZOFFSETFROM:-0800
TZOFFSETTO:-0700
TZNAME:PDT
DTSTART:20270314T100000
END:DAYLIGHT
BEGIN:STANDARD
TZOFFSETFROM:-0700
TZOFFSETTO:-0800
TZNAME:PST
DTSTART:20271107T090000
END:STANDARD
END:VTIMEZONE
BEGIN:VEVENT
DTSTART;TZID=America/Los_Angeles:20260709T110000
DTEND;TZID=America/Los_Angeles:20260709T130000
DTSTAMP:20260424T104351
CREATED:20250204T194057Z
LAST-MODIFIED:20260304T004435Z
UID:6026-1783594800-1783602000@svbgsa.org
SUMMARY:SVBGSA/ MCWDGSA Steering Committee
DESCRIPTION:Zoom Meeting Link
URL:https://svbgsa.org/meeting/svbgsa-mcwdgsa-steering-committee/2026-07-09/
LOCATION:MCWD Offices\, 11 Reservation Road\, Marina\, CA\, 93933\, United States
CATEGORIES:Meetings,Steering Committee
END:VEVENT
BEGIN:VEVENT
DTSTART;TZID=America/Los_Angeles:20261008T110000
DTEND;TZID=America/Los_Angeles:20261008T130000
DTSTAMP:20260424T104351
CREATED:20250204T194057Z
LAST-MODIFIED:20260304T004436Z
UID:6027-1791457200-1791464400@svbgsa.org
SUMMARY:SVBGSA/ MCWDGSA Steering Committee
DESCRIPTION:Zoom Meeting Link
URL:https://svbgsa.org/meeting/svbgsa-mcwdgsa-steering-committee/2026-10-08/
LOCATION:MCWD Offices\, 11 Reservation Road\, Marina\, CA\, 93933\, United States
CATEGORIES:Meetings,Steering Committee
END:VEVENT
END:VCALENDAR