BEGIN:VCALENDAR
VERSION:2.0
PRODID:-//Salinas Valley Basin Groundwater Sustainability Agency - ECPv6.15.20//NONSGML v1.0//EN
CALSCALE:GREGORIAN
METHOD:PUBLISH
X-ORIGINAL-URL:https://svbgsa.org
X-WR-CALDESC:Events for Salinas Valley Basin Groundwater Sustainability Agency
REFRESH-INTERVAL;VALUE=DURATION:PT1H
X-Robots-Tag:noindex
X-PUBLISHED-TTL:PT1H
BEGIN:VTIMEZONE
TZID:America/Los_Angeles
BEGIN:DAYLIGHT
TZOFFSETFROM:-0800
TZOFFSETTO:-0700
TZNAME:PDT
DTSTART:20250309T100000
END:DAYLIGHT
BEGIN:STANDARD
TZOFFSETFROM:-0700
TZOFFSETTO:-0800
TZNAME:PST
DTSTART:20251102T090000
END:STANDARD
BEGIN:DAYLIGHT
TZOFFSETFROM:-0800
TZOFFSETTO:-0700
TZNAME:PDT
DTSTART:20260308T100000
END:DAYLIGHT
BEGIN:STANDARD
TZOFFSETFROM:-0700
TZOFFSETTO:-0800
TZNAME:PST
DTSTART:20261101T090000
END:STANDARD
BEGIN:DAYLIGHT
TZOFFSETFROM:-0800
TZOFFSETTO:-0700
TZNAME:PDT
DTSTART:20270314T100000
END:DAYLIGHT
BEGIN:STANDARD
TZOFFSETFROM:-0700
TZOFFSETTO:-0800
TZNAME:PST
DTSTART:20271107T090000
END:STANDARD
END:VTIMEZONE
BEGIN:VEVENT
DTSTART;TZID=America/Los_Angeles:20261202T090000
DTEND;TZID=America/Los_Angeles:20261202T120000
DTSTAMP:20260424T090100
CREATED:20250204T194706Z
LAST-MODIFIED:20250204T194706Z
UID:6135-1796202000-1796212800@svbgsa.org
SUMMARY:Langley Committee
DESCRIPTION:Zoom Meeting Link
URL:https://svbgsa.org/meeting/langley-committee/2026-12-02/
LOCATION:Monterey County Offices\, Sesame Room\, 1441 Schilling Place\, Salinas\, CA\, 93901\, United States
CATEGORIES:Meetings,Subbasin Committees
END:VEVENT
BEGIN:VEVENT
DTSTART;TZID=America/Los_Angeles:20261203T090000
DTEND;TZID=America/Los_Angeles:20261203T110000
DTSTAMP:20260424T090100
CREATED:20250227T235222Z
LAST-MODIFIED:20260225T213407Z
UID:6044-1796288400-1796295600@svbgsa.org
SUMMARY:Budget & Finance Committee
DESCRIPTION:Zoom Meeting Link
URL:https://svbgsa.org/meeting/budget-finance-committee/2026-12-03/
LOCATION:Monterey County Offices\, Parsley Room\, 1441 Schilling Place\, Salinas\, 93901\, United States
CATEGORIES:Budget & Finance Commitee,Meetings
END:VEVENT
BEGIN:VEVENT
DTSTART;TZID=America/Los_Angeles:20261203T130000
DTEND;TZID=America/Los_Angeles:20261203T150000
DTSTAMP:20260424T090100
CREATED:20250513T210654Z
LAST-MODIFIED:20250513T210654Z
UID:6090-1796302800-1796310000@svbgsa.org
SUMMARY:180/400/Eastside Committee Special Joint Meeting
DESCRIPTION:Zoom Meeting Link
URL:https://svbgsa.org/meeting/180-400-eastside-committee-special-joint-meeting/2026-12-03/
LOCATION:Monterey County Offices\, Cayenne Room\, 1441 Schilling Place\, Salinas\, CA\, 93901\, United States
CATEGORIES:Meetings,Subbasin Committees
END:VEVENT
BEGIN:VEVENT
DTSTART;TZID=America/Los_Angeles:20261217T140000
DTEND;TZID=America/Los_Angeles:20261217T160000
DTSTAMP:20260424T090100
CREATED:20250204T193719Z
LAST-MODIFIED:20260416T210654Z
UID:6050-1797516000-1797523200@svbgsa.org
SUMMARY:Advisory Committee
DESCRIPTION:Zoom Meeting Link
URL:https://svbgsa.org/meeting/advisory-committee/2026-12-17/
LOCATION:Monterey County Offices\, Thyme Room\, 1441 Schilling Place\, Salinas\, CA\, 93901\, United States
CATEGORIES:Advisory Committee,Meetings
END:VEVENT
BEGIN:VEVENT
DTSTART;TZID=America/Los_Angeles:20261230T120000
DTEND;TZID=America/Los_Angeles:20261230T140000
DTSTAMP:20260424T090100
CREATED:20250204T194453Z
LAST-MODIFIED:20260205T234802Z
UID:6099-1798632000-1798639200@svbgsa.org
SUMMARY:Monterey Committee
DESCRIPTION:Zoom Meeting Link
URL:https://svbgsa.org/meeting/monterey-committee-2/2026-12-30/
LOCATION:Monterey County Offices\, Saffron Room\, 1441 Schilling Place\, Salinas\, CA\, 93901\, United States
CATEGORIES:Meetings,Subbasin Committees
END:VEVENT
END:VCALENDAR